BEGIN:VCALENDAR
VERSION:2.0
PRODID:-//Mönsterås Konstförenings - ECPv6.0.12//NONSGML v1.0//EN
CALSCALE:GREGORIAN
METHOD:PUBLISH
X-ORIGINAL-URL:https://monsteraskonst.se
X-WR-CALDESC:Events for Mönsterås Konstförenings
REFRESH-INTERVAL;VALUE=DURATION:PT1H
X-Robots-Tag:noindex
X-PUBLISHED-TTL:PT1H
BEGIN:VTIMEZONE
TZID:Europe/Stockholm
BEGIN:DAYLIGHT
TZOFFSETFROM:+0100
TZOFFSETTO:+0200
TZNAME:CEST
DTSTART:20260329T010000
END:DAYLIGHT
BEGIN:STANDARD
TZOFFSETFROM:+0200
TZOFFSETTO:+0100
TZNAME:CET
DTSTART:20261025T010000
END:STANDARD
END:VTIMEZONE
BEGIN:VEVENT
DTSTART;TZID=Europe/Stockholm:20260509T100000
DTEND;TZID=Europe/Stockholm:20260509T150000
DTSTAMP:20260424T115935
CREATED:20260313T092130Z
LAST-MODIFIED:20260313T092130Z
UID:1551-1778320800-1778338800@monsteraskonst.se
SUMMARY:Konstvärdering
DESCRIPTION:Konstvärdering\nKom till Mönsterås bibliotek lördagen 9 maj 10.00 – 15.00 med ett konstverk.\nGöran Björkquist\, ägare av Emmaboda Konst AB\, värderar det åt dig.
URL:https://monsteraskonst.se/utstallning/konstvardering/
LOCATION:Mönsterås Bibliotek\, Norra Tingsgatan 5\, Mönsterås\, 383 30\, Sweden
END:VEVENT
END:VCALENDAR