BEGIN:VCALENDAR
VERSION:2.0
PRODID:-//Mönsterås Konstförenings - ECPv6.0.12//NONSGML v1.0//EN
CALSCALE:GREGORIAN
METHOD:PUBLISH
X-ORIGINAL-URL:https://monsteraskonst.se
X-WR-CALDESC:Events for Mönsterås Konstförenings
REFRESH-INTERVAL;VALUE=DURATION:PT1H
X-Robots-Tag:noindex
X-PUBLISHED-TTL:PT1H
BEGIN:VTIMEZONE
TZID:Europe/Stockholm
BEGIN:DAYLIGHT
TZOFFSETFROM:+0100
TZOFFSETTO:+0200
TZNAME:CEST
DTSTART:20260329T010000
END:DAYLIGHT
BEGIN:STANDARD
TZOFFSETFROM:+0200
TZOFFSETTO:+0100
TZNAME:CET
DTSTART:20261025T010000
END:STANDARD
END:VTIMEZONE
BEGIN:VEVENT
DTSTART;TZID=Europe/Stockholm:20260222T120000
DTEND;TZID=Europe/Stockholm:20260301T170000
DTSTAMP:20260424T115948
CREATED:20260129T103531Z
LAST-MODIFIED:20260129T104053Z
UID:1521-1771761600-1772384400@monsteraskonst.se
SUMMARY:Müntzingstipendiaterna 2024 & 2025
DESCRIPTION:Müntzingstipendiaterna 2024 & 2025 \nUtställning i Häradssalongen\, Kvarngatan 26 i Mönsterås.\nEn samlingsutställning med skulptur i sten och textil/tovning. \n22 februari – 1 mars\nÖppet alla dagar kl. 12.00–17.00\nVernissage: söndag 22 februari kl. 12.30
URL:https://monsteraskonst.se/utstallning/muntzingstipendiaterna-2024-2025/
LOCATION:Häradssalongen\, Kvarngatan 26\, Mönsterås\, Häradssalongen\, Kvarngatan 26\, Mönsterås\, Sverige
ATTACH;FMTTYPE=image/jpeg:https://monsteraskonst.se/wp-content/uploads/2026/01/Affisch-Muntzing-26-scaled.jpg
END:VEVENT
BEGIN:VEVENT
DTSTART;VALUE=DATE:20260319
DTEND;VALUE=DATE:20260320
DTSTAMP:20260424T115948
CREATED:20260304T082757Z
LAST-MODIFIED:20260304T082757Z
UID:1539-1773878400-1773964799@monsteraskonst.se
SUMMARY:Årsmöte med jubileumsfest
DESCRIPTION:Mönsterås Konstförening firar 80 år (1946–2026) och bjuder in till årsmöte med jubileumsfest. \nTorsdag 19 mars kl. 19.00\nÅlems Församlingshem \nProgram\n\n\nSedvanliga årsmötesförhandlingar \n\n\nFika med jubileumstårta (bjuds av Häradssparbanken Mönsterås) \n\n\nDansläraren Martha Teran bjuder på ecuadoriansk folkdans\, La Jota \n\n\nStora medlemslotteriet med 20 närvarovinster\nskänkta av lokala konstnärer \n\n\nAuktion på skänkt konst \n\n\nAnmälan\nIngen anmälan krävs för att delta i årsmötet\,\nmen meddela gärna ditt deltagande så att det finns tårta så det räcker till alla.medlem@monsteraskonst.se \nVarmt välkommen!
URL:https://monsteraskonst.se/utstallning/arsmote-med-jubileumsfest/
LOCATION:Ålems församlingshem\, Häradsvägen 27\, 384 93 Ålem\, 384 93
ATTACH;FMTTYPE=image/jpeg:https://monsteraskonst.se/wp-content/uploads/2026/03/Asmote-Monsteras-Konstforening-scaled.jpg
END:VEVENT
END:VCALENDAR