BEGIN:VCALENDAR
VERSION:2.0
PRODID:-//Mönsterås Konstförenings - ECPv6.0.12//NONSGML v1.0//EN
CALSCALE:GREGORIAN
METHOD:PUBLISH
X-ORIGINAL-URL:https://monsteraskonst.se
X-WR-CALDESC:Events for Mönsterås Konstförenings
REFRESH-INTERVAL;VALUE=DURATION:PT1H
X-Robots-Tag:noindex
X-PUBLISHED-TTL:PT1H
BEGIN:VTIMEZONE
TZID:Europe/Stockholm
BEGIN:DAYLIGHT
TZOFFSETFROM:+0100
TZOFFSETTO:+0200
TZNAME:CEST
DTSTART:20260329T010000
END:DAYLIGHT
BEGIN:STANDARD
TZOFFSETFROM:+0200
TZOFFSETTO:+0100
TZNAME:CET
DTSTART:20261025T010000
END:STANDARD
END:VTIMEZONE
BEGIN:VEVENT
DTSTART;VALUE=DATE:20260411
DTEND;VALUE=DATE:20260420
DTSTAMP:20260424T114856
CREATED:20260313T091748Z
LAST-MODIFIED:20260330T071009Z
UID:1544-1775865600-1776643199@monsteraskonst.se
SUMMARY:Vårutställning
DESCRIPTION:Vårutställning 11 april – 19 april 2026\nChristoffer Falk\, Bolmsö\, akvarell\nCarlos R Pebaqué\, Gullaskruv/Målerås\, konstglas\nEva Sundman\, Nybro\, olja – naturmotiv \nVernissage: Lördagen 11 april 12.30\nÖppettider: 12.00 – 17.00 alla dagar \nHäradssalongen (Hembygdsgården) Kvarngatan 26\, Mönsterås
URL:https://monsteraskonst.se/utstallning/varutstallning-2/
LOCATION:Häradssalongen\, Kvarngatan 26\, Mönsterås\, Häradssalongen\, Kvarngatan 26\, Mönsterås\, Sverige
ATTACH;FMTTYPE=image/jpeg:https://monsteraskonst.se/wp-content/uploads/2026/03/2026-konstforeningen-Varutstallning-scaled.jpg
END:VEVENT
END:VCALENDAR